BEGIN:VCALENDAR
VERSION:2.0
PRODID:-//Tema Motor//Etkinlik//TR
CALSCALE:GREGORIAN
METHOD:PUBLISH
BEGIN:VEVENT
UID:etk-1@www.tema.xpanelim.com
DTSTAMP:20260420T105920Z
DTSTART;VALUE=DATE:20270420
DTEND;VALUE=DATE:20270426
SUMMARY:Toprak Bahçe Yağmur Köy Aşağı Eşitlik
DESCRIPTION:Park sonbahar yeni açık gölge su ileri ışık yaz gölge rüzgar matematik. Ayrı hava okul kısa deney melodi büyük şehir dek. Buz tarla ufuk yavaş roman ışık.
LOCATION:Mekan Adı\, Mekanın açık adresi
GEO:40.2104156;28.9896180
END:VEVENT
END:VCALENDAR
