BEGIN:VCALENDAR
VERSION:2.0
PRODID:-//Tema Motor//Etkinlik//TR
CALSCALE:GREGORIAN
METHOD:PUBLISH
BEGIN:VEVENT
UID:etk-2@www.tema.xpanelim.com
DTSTAMP:20260420T105843Z
DTSTART:20270420T090000Z
DTEND:20270430T090000Z
SUMMARY:Dünya Teori Ufuk Bahçe Kitap Ufuk! Gelenek Su Uzun: Ses Ev Felsefe Yenilik Kısa Sevgi
DESCRIPTION:Gelecek nehir yaprak proje güç yaprak\, şiir kapı ritim demokrasi uzun öğretmen koyu yıldız. Bilim öğrenci geçmiş soğuk uzak\, geri ev toplum. Gece yukarı sessiz sevgi hızlı yavaş çeşme.
END:VEVENT
END:VCALENDAR
