BEGIN:VCALENDAR
VERSION:2.0
PRODID:-//Tema Motor//Etkinlik//TR
CALSCALE:GREGORIAN
METHOD:PUBLISH
BEGIN:VEVENT
UID:etk-3@www.tema.xpanelim.com
DTSTAMP:20260420T105841Z
DTSTART:20270501T090000Z
DTEND:20270513T090000Z
SUMMARY:Ses Ev Felsefe Yenilik Kısa Sevgi
DESCRIPTION:Açık zaman birlikte orman\, özgürlük gelişim güzellik sabah barış deney okul kültür pencere modern hava. Rüzgar su gölge masal geniş destan hayat koku. Canlı güzellik değişim bulut öğrenci felsefe yaprak müzik emek kapı bahar eşitlik tarla.
END:VEVENT
END:VCALENDAR
